BEGIN:VCALENDAR
VERSION:2.0
PRODID:-//eventon.com NONSGML v1.0//EN
CALSCALE:GREGORIAN
METHOD:PUBLISH
BEGIN:VEVENT
UID:69ecd7508c8ff
DTSTAMP:20260425T150136Z
DTSTART:20251018T120000Z
DTEND:20251018T180000Z
LOCATION:Local Neighborhoods Around MCC
SUMMARY:Serve Day
DESCRIPTION:Bring your WHOLE family and join us for an awesome day of servi
 ng and fellowship as we show love in the neighborhoods right here on Shady 
 Grove Avenue\,  adjacent to MCC. We’ll kick off the morning with worship 
 and a rally to get everyone excited about serving together. After a[..]\nht
 tps://www.mccag.org/events/serve-day-2/
URL:https://www.mccag.org/events/serve-day-2/
END:VEVENT
END:VCALENDAR