BEGIN:VCALENDAR
VERSION:2.0
PRODID:-//eventon.com NONSGML v1.0//EN
CALSCALE:GREGORIAN
METHOD:PUBLISH
BEGIN:VEVENT
UID:69e9df480f8e2
DTSTAMP:20260423T085848Z
DTSTART:20250601T120000Z
DTEND:20250601T163000Z
LOCATION:Sanctuary / M4 / Grand Foyer
SUMMARY:GRAD SUNDAY x NEXT GEN SUNDAY
DESCRIPTION:Join us to celebrate our 2025 High School Graduates during our 
 Sunday Services on June 1st! Register your graduate and upload their photo 
 (named with their first and last name) by May 21st.  Mark your calendars f
 or this special event! REGISTER HERE\nhttps://www.mccag.org/events/grad-sun
 day-x-next-gen-sunday/
URL:https://www.mccag.org/events/grad-sunday-x-next-gen-sunday/
END:VEVENT
END:VCALENDAR